BEGIN:VCALENDAR
VERSION:2.0
PRODID:-//eventon.com NONSGML v1.0//EN
CALSCALE:GREGORIAN
METHOD:PUBLISH
BEGIN:VEVENT
UID:69e5ecfe4c16d
DTSTAMP:20260420T090814Z
DTSTART:20250110T121500Z
DTEND:20250110T124500Z
LOCATION:
SUMMARY:Online Healing 12.15 pm to 12.45 pm
DESCRIPTION:Online Healing 12.15 pm to 12.45 pm Stephen spends time to enga
 ge and support through discussion\,  exercises\,  transmission and healing 
 as suitable for your condition.This is done online one of one via a zoom li
 nk. This is for the 12.15 pm to 12.45 pm slot Benefits include: Encourages 
 focus &amp;[..]\nhttps://www.ministrymoe.org/events/online-healing-12-15-pm
 -to-12-45-pm/
URL:https://www.ministrymoe.org/events/online-healing-12-15-pm-to-12-45-pm/
END:VEVENT
END:VCALENDAR